BEGIN:VCALENDAR
VERSION:2.0
PRODID:-//Dr. Goodenowe - ECPv6.15.20//NONSGML v1.0//EN
CALSCALE:GREGORIAN
METHOD:PUBLISH
X-WR-CALNAME:Dr. Goodenowe
X-ORIGINAL-URL:https://drgoodenowe.com
X-WR-CALDESC:Events for Dr. Goodenowe
REFRESH-INTERVAL;VALUE=DURATION:PT1H
X-Robots-Tag:noindex
X-PUBLISHED-TTL:PT1H
BEGIN:VTIMEZONE
TZID:America/Los_Angeles
BEGIN:DAYLIGHT
TZOFFSETFROM:-0800
TZOFFSETTO:-0700
TZNAME:PDT
DTSTART:20230312T100000
END:DAYLIGHT
BEGIN:STANDARD
TZOFFSETFROM:-0700
TZOFFSETTO:-0800
TZNAME:PST
DTSTART:20231105T090000
END:STANDARD
BEGIN:DAYLIGHT
TZOFFSETFROM:-0800
TZOFFSETTO:-0700
TZNAME:PDT
DTSTART:20240310T100000
END:DAYLIGHT
BEGIN:STANDARD
TZOFFSETFROM:-0700
TZOFFSETTO:-0800
TZNAME:PST
DTSTART:20241103T090000
END:STANDARD
BEGIN:DAYLIGHT
TZOFFSETFROM:-0800
TZOFFSETTO:-0700
TZNAME:PDT
DTSTART:20250309T100000
END:DAYLIGHT
BEGIN:STANDARD
TZOFFSETFROM:-0700
TZOFFSETTO:-0800
TZNAME:PST
DTSTART:20251102T090000
END:STANDARD
END:VTIMEZONE
BEGIN:VEVENT
DTSTART;TZID=America/Los_Angeles:20241212T103000
DTEND;TZID=America/Los_Angeles:20241212T113000
DTSTAMP:20260421T042922
CREATED:20241102T140334Z
LAST-MODIFIED:20241124T230902Z
UID:30622-1733999400-1734003000@drgoodenowe.com
SUMMARY:A4M Longevity Fest Preconference Workshop\, NeuroWellness: Advancing Brain Health Through Cutting-Edge Neuroscience
DESCRIPTION:Join us on December 12\, 2024\, at the A4M Longevity Fest Preconference Workshop\, NeuroWellness: Advancing Brain Health Through Cutting-Edge Neuroscience\, where Dr. Dayan Goodenowe will present “Cognitive Health and Aging: Strategies and Lifestyle Factors.” \nThe NeuroWellness Workshop is an immersive and comprehensive training course designed for healthcare professionals dedicated to advancing their expertise in neuroscience and brain health. This one-day seminar will explore the latest innovations in neuroplasticity\, cognitive health\, neurodegenerative diseases\, and more\, offering practical\, evidence-based tools to enhance patient care. \nLearn more and register here.
URL:https://drgoodenowe.com/event/a4m-longevity-fest-preconference-workshop/
LOCATION:Venetian and Palazzo Resort\, 3355 S. Las Vegas Blvd\, Las Vegas\, NV\, 89109\, United States
CATEGORIES:Featured Talks
ATTACH;FMTTYPE=image/webp:https://drgoodenowe.com/wp-content/uploads/2024/11/Preconference-Workshop.webp
END:VEVENT
END:VCALENDAR