BEGIN:VCALENDAR
VERSION:2.0
PRODID:-//Dr. Goodenowe - ECPv6.15.20//NONSGML v1.0//EN
CALSCALE:GREGORIAN
METHOD:PUBLISH
X-WR-CALNAME:Dr. Goodenowe
X-ORIGINAL-URL:https://drgoodenowe.com
X-WR-CALDESC:Events for Dr. Goodenowe
REFRESH-INTERVAL;VALUE=DURATION:PT1H
X-Robots-Tag:noindex
X-PUBLISHED-TTL:PT1H
BEGIN:VTIMEZONE
TZID:America/Los_Angeles
BEGIN:DAYLIGHT
TZOFFSETFROM:-0800
TZOFFSETTO:-0700
TZNAME:PDT
DTSTART:20250309T100000
END:DAYLIGHT
BEGIN:STANDARD
TZOFFSETFROM:-0700
TZOFFSETTO:-0800
TZNAME:PST
DTSTART:20251102T090000
END:STANDARD
BEGIN:DAYLIGHT
TZOFFSETFROM:-0800
TZOFFSETTO:-0700
TZNAME:PDT
DTSTART:20260308T100000
END:DAYLIGHT
BEGIN:STANDARD
TZOFFSETFROM:-0700
TZOFFSETTO:-0800
TZNAME:PST
DTSTART:20261101T090000
END:STANDARD
BEGIN:DAYLIGHT
TZOFFSETFROM:-0800
TZOFFSETTO:-0700
TZNAME:PDT
DTSTART:20270314T100000
END:DAYLIGHT
BEGIN:STANDARD
TZOFFSETFROM:-0700
TZOFFSETTO:-0800
TZNAME:PST
DTSTART:20271107T090000
END:STANDARD
END:VTIMEZONE
BEGIN:VEVENT
DTSTART;TZID=America/Los_Angeles:20260424T172000
DTEND;TZID=America/Los_Angeles:20260424T180500
DTSTAMP:20260420T024334
CREATED:20260412T003956Z
LAST-MODIFIED:20260412T140038Z
UID:40744-1777051200-1777053900@drgoodenowe.com
SUMMARY:Autism Health Summit - Neuro Development in Autism
DESCRIPTION:Join Dr. Dayan Goodenowe on April 24\, 2026\, at the Autism Health Summit 2026\, where he will speak on Neurodevelopment in Autism. \n  \nThis one-of-a-kind\, parent-driven event brings together top doctors\, therapists\, researchers\, and educators to share the latest in integrative health\, biomedical treatments\, therapies\, nutrition\, and more. Whether you’re a parent\, caregiver\, or healthcare professional\, the Autism Health Summit is designed to inform\, inspire\, and empower. \n  \nLearn More and Register Here → \n 
URL:https://drgoodenowe.com/event/autism-health-summit-neuro-development-in-autism/
LOCATION:Legacy Resort Hotel & Spa\, 875 Hotel Cir S\, San Diego\, CA\, 92108\, United States
CATEGORIES:Featured Talks
ATTACH;FMTTYPE=image/png:https://drgoodenowe.com/wp-content/uploads/2026/04/Autism-Health-Summit.png
ORGANIZER;CN="Autism Health Inc.":MAILTO:info@autismhealth.com
END:VEVENT
END:VCALENDAR