BEGIN:VCALENDAR
VERSION:2.0
PRODID:-//Dr. Goodenowe - ECPv6.15.20//NONSGML v1.0//EN
CALSCALE:GREGORIAN
METHOD:PUBLISH
X-WR-CALNAME:Dr. Goodenowe
X-ORIGINAL-URL:https://drgoodenowe.com
X-WR-CALDESC:Events for Dr. Goodenowe
REFRESH-INTERVAL;VALUE=DURATION:PT1H
X-Robots-Tag:noindex
X-PUBLISHED-TTL:PT1H
BEGIN:VTIMEZONE
TZID:America/Los_Angeles
BEGIN:DAYLIGHT
TZOFFSETFROM:-0800
TZOFFSETTO:-0700
TZNAME:PDT
DTSTART:20240310T100000
END:DAYLIGHT
BEGIN:STANDARD
TZOFFSETFROM:-0700
TZOFFSETTO:-0800
TZNAME:PST
DTSTART:20241103T090000
END:STANDARD
BEGIN:DAYLIGHT
TZOFFSETFROM:-0800
TZOFFSETTO:-0700
TZNAME:PDT
DTSTART:20250309T100000
END:DAYLIGHT
BEGIN:STANDARD
TZOFFSETFROM:-0700
TZOFFSETTO:-0800
TZNAME:PST
DTSTART:20251102T090000
END:STANDARD
BEGIN:DAYLIGHT
TZOFFSETFROM:-0800
TZOFFSETTO:-0700
TZNAME:PDT
DTSTART:20260308T100000
END:DAYLIGHT
BEGIN:STANDARD
TZOFFSETFROM:-0700
TZOFFSETTO:-0800
TZNAME:PST
DTSTART:20261101T090000
END:STANDARD
END:VTIMEZONE
BEGIN:VEVENT
DTSTART;VALUE=DATE:20250501
DTEND;VALUE=DATE:20250504
DTSTAMP:20260420T074100
CREATED:20250406T033453Z
LAST-MODIFIED:20250411T022445Z
UID:32858-1746057600-1746316799@drgoodenowe.com
SUMMARY:Cognition360 - Where Innovation Meets Brain Health
DESCRIPTION:Join us at Cognition360—advancing the future of brain health. \nThis premier event brings together leading experts\, researchers\, and clinicians to explore the latest advancements in neuroscience\, mental well-being\, and cognitive optimization. \nWhether your focus is on preventing neurodegenerative decline\, enhancing mental performance\, or developing precision brain health therapies\, Cognition360 offers insight\, collaboration\, and practical innovation to help you elevate patient care. \nDr. Goodenowe will be speaking in three dedicated sessions\, offering critical perspectives you won’t find anywhere else. \n  \nThursday\, May 1\, 2025 @ 7:30 AM \nThe Future of Brain Health – Longevity & Neuroprotection \n\nUnderstand the latest research on neuroprotection and cognitive aging.\nExplore the role of inflammation\, metabolism\, and lifestyle in brain longevity.\nIdentify actionable strategies for preserving cognitive function.\n\nThursday\, May 1\, 2025 @ 1:30 AM \nMitochondria & Cognitive Aging: Bioenergetics for Brain Health \n\nDiscuss the role of mitochondrial function in cognitive health.\nAnalyze how bioenergetic deficits contribute to neurodegeneration.\nEvaluate therapeutic strategies to optimize mitochondrial performance.\n\nFirday\, May 2\, 2025 @ 8:30 AM \nAdvances in Early Detection & Biomarkers for Alzheimer’s and Dementia \n\nIdentify the latest biomarkers for early detection of cognitive decline.\nEvaluate emerging technologies for Alzheimer’s risk assessment.\nApply biomarker-driven approaches to personalize early interventions.\n\n  \nRegister here → \n  \n 
URL:https://drgoodenowe.com/event/cognition360/
LOCATION:Marriott Chicago Downtown Magnificent Mile\, 540 North Michigan Avenue\, Chicago\, IL\, 60611\, United States
CATEGORIES:Featured Talks
ATTACH;FMTTYPE=image/webp:https://drgoodenowe.com/wp-content/uploads/2025/04/DG-Cognition-360.webp
END:VEVENT
END:VCALENDAR