BEGIN:VCALENDAR
VERSION:2.0
PRODID:-//Dr. Goodenowe - ECPv6.15.20//NONSGML v1.0//EN
CALSCALE:GREGORIAN
METHOD:PUBLISH
X-ORIGINAL-URL:https://drgoodenowe.com
X-WR-CALDESC:Events for Dr. Goodenowe
REFRESH-INTERVAL;VALUE=DURATION:PT1H
X-Robots-Tag:noindex
X-PUBLISHED-TTL:PT1H
BEGIN:VTIMEZONE
TZID:America/Los_Angeles
BEGIN:DAYLIGHT
TZOFFSETFROM:-0800
TZOFFSETTO:-0700
TZNAME:PDT
DTSTART:20250309T100000
END:DAYLIGHT
BEGIN:STANDARD
TZOFFSETFROM:-0700
TZOFFSETTO:-0800
TZNAME:PST
DTSTART:20251102T090000
END:STANDARD
BEGIN:DAYLIGHT
TZOFFSETFROM:-0800
TZOFFSETTO:-0700
TZNAME:PDT
DTSTART:20260308T100000
END:DAYLIGHT
BEGIN:STANDARD
TZOFFSETFROM:-0700
TZOFFSETTO:-0800
TZNAME:PST
DTSTART:20261101T090000
END:STANDARD
BEGIN:DAYLIGHT
TZOFFSETFROM:-0800
TZOFFSETTO:-0700
TZNAME:PDT
DTSTART:20270314T100000
END:DAYLIGHT
BEGIN:STANDARD
TZOFFSETFROM:-0700
TZOFFSETTO:-0800
TZNAME:PST
DTSTART:20271107T090000
END:STANDARD
END:VTIMEZONE
BEGIN:VEVENT
DTSTART;TZID=America/Los_Angeles:20260304T160000
DTEND;TZID=America/Los_Angeles:20260304T170000
DTSTAMP:20260420T023028
CREATED:20251206T174011Z
LAST-MODIFIED:20251207T143644Z
UID:10000062-1772640000-1772643600@drgoodenowe.com
SUMMARY:How to Build Muscle & Bone For Life
DESCRIPTION:Live Webinar with Dr. Dayan Goodenowe \n  \nImmortal Strength: How to Build Muscle & Bone for Life \n  \nWhat you’ll learn:\n• Why do we lose muscle mass and bone density as we age? Is it inevitable?\n• Why maintaining muscle mass and bone density is the most important determinant of health in old age\n• How to build muscle and increase bone density at any age \n  \n⏰ March 4\, 2026 @ 6 pm SK time | 4 pm PST \n📍 Community Health Center\, 1400 Lakeview Rd\, Moose Jaw\, SK. In-person or virtual attendance. \n  \nRegister Here → \n  \n 
URL:https://drgoodenowe.com/event/how-to-build-muscle-bone-for-life/
LOCATION:Dr. Goodenowe Community Health\, 1400 Lakeview Rd\, Moose Jaw\, SK\, S6H4R3\, Canada
CATEGORIES:Hosted By Dr. Goodenowe
ATTACH;FMTTYPE=image/png:https://drgoodenowe.com/wp-content/uploads/2025/12/Strength-Webinar.png
END:VEVENT
BEGIN:VEVENT
DTSTART;TZID=America/Los_Angeles:20260318T170000
DTEND;TZID=America/Los_Angeles:20260318T180000
DTSTAMP:20260420T023028
CREATED:20260226T163217Z
LAST-MODIFIED:20260302T131635Z
UID:10000066-1773853200-1773856800@drgoodenowe.com
SUMMARY:Animal Health: Supporting Vitality and Longevity in Pets
DESCRIPTION:Live Webinar with Dr. Dayan Goodenowe \n  \n\nWhat Human Health Research Can Teach Us About Dogs\, Cats\, and Horses  \n• How metabolism influences energy\, behavior\, and longevity in animals\n• Nutritional foundations for supporting healthy cellular function\n• Key markers that reflect metabolic resilience in pets \n  \n\n⏰ March 18\, 2026 @ 6 pm SK time | 5 pm PST \n📍 Zoom \n  \nRegister Here → \n  \n 
URL:https://drgoodenowe.com/event/longevity-vitality-for-pets/
LOCATION:Zoom\, CA\, United States
CATEGORIES:Hosted By Dr. Goodenowe
ATTACH;FMTTYPE=image/png:https://drgoodenowe.com/wp-content/uploads/2025/11/Healthy-Dog.png
END:VEVENT
END:VCALENDAR