BEGIN:VCALENDAR
VERSION:2.0
PRODID:-//Dr. Goodenowe - ECPv6.15.20//NONSGML v1.0//EN
CALSCALE:GREGORIAN
METHOD:PUBLISH
X-ORIGINAL-URL:https://drgoodenowe.com
X-WR-CALDESC:Events for Dr. Goodenowe
REFRESH-INTERVAL;VALUE=DURATION:PT1H
X-Robots-Tag:noindex
X-PUBLISHED-TTL:PT1H
BEGIN:VTIMEZONE
TZID:America/Los_Angeles
BEGIN:DAYLIGHT
TZOFFSETFROM:-0800
TZOFFSETTO:-0700
TZNAME:PDT
DTSTART:20250309T100000
END:DAYLIGHT
BEGIN:STANDARD
TZOFFSETFROM:-0700
TZOFFSETTO:-0800
TZNAME:PST
DTSTART:20251102T090000
END:STANDARD
BEGIN:DAYLIGHT
TZOFFSETFROM:-0800
TZOFFSETTO:-0700
TZNAME:PDT
DTSTART:20260308T100000
END:DAYLIGHT
BEGIN:STANDARD
TZOFFSETFROM:-0700
TZOFFSETTO:-0800
TZNAME:PST
DTSTART:20261101T090000
END:STANDARD
BEGIN:DAYLIGHT
TZOFFSETFROM:-0800
TZOFFSETTO:-0700
TZNAME:PDT
DTSTART:20270314T100000
END:DAYLIGHT
BEGIN:STANDARD
TZOFFSETFROM:-0700
TZOFFSETTO:-0800
TZNAME:PST
DTSTART:20271107T090000
END:STANDARD
END:VTIMEZONE
BEGIN:VEVENT
DTSTART;TZID=America/Los_Angeles:20260617T170000
DTEND;TZID=America/Los_Angeles:20260617T180000
DTSTAMP:20260422T151246
CREATED:20251206T175147Z
LAST-MODIFIED:20260419T000818Z
UID:10000064-1781715600-1781719200@drgoodenowe.com
SUMMARY:Understanding Diabetes: What Elevated Blood Glucose Really Means
DESCRIPTION:Live Webinar with Dr. Dayan Goodenowe \n  \nUnderstanding Diabetes: What elevated blood glucose really means \n  \nWhat you’ll learn:\n• The fundamentals of cellular energy metabolism: fats vs. sugar\n• How mitochondrial efficiency influences glucose regulation\n• The role of muscle and lifestyle in supporting metabolic health \n  \n⏰ June 17\, 2026 @ 6 pm SK time | 5 pm PST \n📍 Community Health Center\, 1400 Lakeview Rd\, Moose Jaw\, SK. In-person or virtual attendance. \n  \nRegister Here → \n  \n 
URL:https://drgoodenowe.com/event/understanding-diabetes/
LOCATION:Dr. Goodenowe Community Health\, 1400 Lakeview Rd\, Moose Jaw\, SK\, S6H4R3\, Canada
CATEGORIES:Hosted By Dr. Goodenowe
ATTACH;FMTTYPE=image/png:https://drgoodenowe.com/wp-content/uploads/2025/12/Understanding-Diabetes-Webinar.png
END:VEVENT
END:VCALENDAR